BEGIN:VCALENDAR
VERSION:2.0
PRODID:-//CHAPS - ECPv6.15.20//NONSGML v1.0//EN
CALSCALE:GREGORIAN
METHOD:PUBLISH
X-WR-CALNAME:CHAPS
X-ORIGINAL-URL:https://chapscoleman.org
X-WR-CALDESC:Events for CHAPS
REFRESH-INTERVAL;VALUE=DURATION:PT1H
X-Robots-Tag:noindex
X-PUBLISHED-TTL:PT1H
BEGIN:VTIMEZONE
TZID:America/Chicago
BEGIN:DAYLIGHT
TZOFFSETFROM:-0600
TZOFFSETTO:-0500
TZNAME:CDT
DTSTART:20230312T080000
END:DAYLIGHT
BEGIN:STANDARD
TZOFFSETFROM:-0500
TZOFFSETTO:-0600
TZNAME:CST
DTSTART:20231105T070000
END:STANDARD
BEGIN:DAYLIGHT
TZOFFSETFROM:-0600
TZOFFSETTO:-0500
TZNAME:CDT
DTSTART:20240310T080000
END:DAYLIGHT
BEGIN:STANDARD
TZOFFSETFROM:-0500
TZOFFSETTO:-0600
TZNAME:CST
DTSTART:20241103T070000
END:STANDARD
BEGIN:DAYLIGHT
TZOFFSETFROM:-0600
TZOFFSETTO:-0500
TZNAME:CDT
DTSTART:20250309T080000
END:DAYLIGHT
BEGIN:STANDARD
TZOFFSETFROM:-0500
TZOFFSETTO:-0600
TZNAME:CST
DTSTART:20251102T070000
END:STANDARD
BEGIN:DAYLIGHT
TZOFFSETFROM:-0600
TZOFFSETTO:-0500
TZNAME:CDT
DTSTART:20260308T080000
END:DAYLIGHT
BEGIN:STANDARD
TZOFFSETFROM:-0500
TZOFFSETTO:-0600
TZNAME:CST
DTSTART:20261101T070000
END:STANDARD
END:VTIMEZONE
BEGIN:VEVENT
DTSTART;TZID=America/Chicago:20250603T173000
DTEND;TZID=America/Chicago:20250603T183000
DTSTAMP:20260419T222557
CREATED:20250531T185006Z
LAST-MODIFIED:20250531T185006Z
UID:5034-1748971800-1748975400@chapscoleman.org
SUMMARY:Volunteer Work Hour
DESCRIPTION:
URL:https://chapscoleman.org/eventdetail/volunteer-work-hour/
LOCATION:The Gallery at Heritage Hall\, 400 West College\, Coleman\, TX\, 76834\, United States
END:VEVENT
BEGIN:VEVENT
DTSTART;TZID=America/Chicago:20250603T173000
DTEND;TZID=America/Chicago:20250603T190000
DTSTAMP:20260419T222557
CREATED:20250531T184516Z
LAST-MODIFIED:20250531T184516Z
UID:5030-1748971800-1748977200@chapscoleman.org
SUMMARY:Timeline Committee Meeting
DESCRIPTION:
URL:https://chapscoleman.org/eventdetail/timeline-committee-meeting/
LOCATION:The Gallery at Heritage Hall\, 400 West College\, Coleman\, TX\, 76834\, United States
END:VEVENT
BEGIN:VEVENT
DTSTART;TZID=America/Chicago:20250603T173000
DTEND;TZID=America/Chicago:20250603T183000
DTSTAMP:20260419T222557
CREATED:20250531T185006Z
LAST-MODIFIED:20250531T185006Z
UID:5034-1748971800-1748975400@chapscoleman.org
SUMMARY:Volunteer Work Hour
DESCRIPTION:
URL:https://chapscoleman.org/eventdetail/volunteer-work-hour/
LOCATION:The Gallery at Heritage Hall\, 400 West College\, Coleman\, TX\, 76834\, United States
END:VEVENT
BEGIN:VEVENT
DTSTART;TZID=America/Chicago:20250603T173000
DTEND;TZID=America/Chicago:20250603T183000
DTSTAMP:20260419T222557
CREATED:20250531T185006Z
LAST-MODIFIED:20250531T185006Z
UID:5034-1748971800-1748975400@chapscoleman.org
SUMMARY:Volunteer Work Hour
DESCRIPTION:
URL:https://chapscoleman.org/eventdetail/volunteer-work-hour/
LOCATION:The Gallery at Heritage Hall\, 400 West College\, Coleman\, TX\, 76834\, United States
END:VEVENT
BEGIN:VEVENT
DTSTART;TZID=America/Chicago:20250603T173000
DTEND;TZID=America/Chicago:20250603T183000
DTSTAMP:20260419T222557
CREATED:20250531T185006Z
LAST-MODIFIED:20250531T185006Z
UID:5034-1748971800-1748975400@chapscoleman.org
SUMMARY:Volunteer Work Hour
DESCRIPTION:
URL:https://chapscoleman.org/eventdetail/volunteer-work-hour/
LOCATION:The Gallery at Heritage Hall\, 400 West College\, Coleman\, TX\, 76834\, United States
END:VEVENT
BEGIN:VEVENT
DTSTART;TZID=America/Chicago:20250603T173000
DTEND;TZID=America/Chicago:20250603T190000
DTSTAMP:20260419T222557
CREATED:20250531T184516Z
LAST-MODIFIED:20250531T184516Z
UID:5030-1748971800-1748977200@chapscoleman.org
SUMMARY:Timeline Committee Meeting
DESCRIPTION:
URL:https://chapscoleman.org/eventdetail/timeline-committee-meeting/
LOCATION:The Gallery at Heritage Hall\, 400 West College\, Coleman\, TX\, 76834\, United States
END:VEVENT
BEGIN:VEVENT
DTSTART;TZID=America/Chicago:20250603T173000
DTEND;TZID=America/Chicago:20250603T183000
DTSTAMP:20260419T222557
CREATED:20250531T185006Z
LAST-MODIFIED:20250531T185006Z
UID:5034-1748971800-1748975400@chapscoleman.org
SUMMARY:Volunteer Work Hour
DESCRIPTION:
URL:https://chapscoleman.org/eventdetail/volunteer-work-hour/
LOCATION:The Gallery at Heritage Hall\, 400 West College\, Coleman\, TX\, 76834\, United States
END:VEVENT
BEGIN:VEVENT
DTSTART;TZID=America/Chicago:20250603T173000
DTEND;TZID=America/Chicago:20250603T183000
DTSTAMP:20260419T222557
CREATED:20250531T185006Z
LAST-MODIFIED:20250531T185006Z
UID:5034-1748971800-1748975400@chapscoleman.org
SUMMARY:Volunteer Work Hour
DESCRIPTION:
URL:https://chapscoleman.org/eventdetail/volunteer-work-hour/
LOCATION:The Gallery at Heritage Hall\, 400 West College\, Coleman\, TX\, 76834\, United States
END:VEVENT
BEGIN:VEVENT
DTSTART;TZID=America/Chicago:20250603T173000
DTEND;TZID=America/Chicago:20250603T183000
DTSTAMP:20260419T222557
CREATED:20250531T185006Z
LAST-MODIFIED:20250531T185006Z
UID:5034-1748971800-1748975400@chapscoleman.org
SUMMARY:Volunteer Work Hour
DESCRIPTION:
URL:https://chapscoleman.org/eventdetail/volunteer-work-hour/
LOCATION:The Gallery at Heritage Hall\, 400 West College\, Coleman\, TX\, 76834\, United States
END:VEVENT
BEGIN:VEVENT
DTSTART;TZID=America/Chicago:20250603T173000
DTEND;TZID=America/Chicago:20250603T190000
DTSTAMP:20260419T222557
CREATED:20250531T184516Z
LAST-MODIFIED:20250531T184516Z
UID:5030-1748971800-1748977200@chapscoleman.org
SUMMARY:Timeline Committee Meeting
DESCRIPTION:
URL:https://chapscoleman.org/eventdetail/timeline-committee-meeting/
LOCATION:The Gallery at Heritage Hall\, 400 West College\, Coleman\, TX\, 76834\, United States
END:VEVENT
BEGIN:VEVENT
DTSTART;TZID=America/Chicago:20250603T173000
DTEND;TZID=America/Chicago:20250603T183000
DTSTAMP:20260419T222557
CREATED:20250531T185006Z
LAST-MODIFIED:20250531T185006Z
UID:5034-1748971800-1748975400@chapscoleman.org
SUMMARY:Volunteer Work Hour
DESCRIPTION:
URL:https://chapscoleman.org/eventdetail/volunteer-work-hour/
LOCATION:The Gallery at Heritage Hall\, 400 West College\, Coleman\, TX\, 76834\, United States
END:VEVENT
BEGIN:VEVENT
DTSTART;TZID=America/Chicago:20250603T173000
DTEND;TZID=America/Chicago:20250603T183000
DTSTAMP:20260419T222557
CREATED:20250531T185006Z
LAST-MODIFIED:20250531T185006Z
UID:5034-1748971800-1748975400@chapscoleman.org
SUMMARY:Volunteer Work Hour
DESCRIPTION:
URL:https://chapscoleman.org/eventdetail/volunteer-work-hour/
LOCATION:The Gallery at Heritage Hall\, 400 West College\, Coleman\, TX\, 76834\, United States
END:VEVENT
BEGIN:VEVENT
DTSTART;TZID=America/Chicago:20250603T173000
DTEND;TZID=America/Chicago:20250603T183000
DTSTAMP:20260419T222557
CREATED:20250531T185006Z
LAST-MODIFIED:20250531T185006Z
UID:5034-1748971800-1748975400@chapscoleman.org
SUMMARY:Volunteer Work Hour
DESCRIPTION:
URL:https://chapscoleman.org/eventdetail/volunteer-work-hour/
LOCATION:The Gallery at Heritage Hall\, 400 West College\, Coleman\, TX\, 76834\, United States
END:VEVENT
BEGIN:VEVENT
DTSTART;TZID=America/Chicago:20250603T173000
DTEND;TZID=America/Chicago:20250603T183000
DTSTAMP:20260419T222557
CREATED:20250531T185006Z
LAST-MODIFIED:20250531T185006Z
UID:5034-1748971800-1748975400@chapscoleman.org
SUMMARY:Volunteer Work Hour
DESCRIPTION:
URL:https://chapscoleman.org/eventdetail/volunteer-work-hour/
LOCATION:The Gallery at Heritage Hall\, 400 West College\, Coleman\, TX\, 76834\, United States
END:VEVENT
BEGIN:VEVENT
DTSTART;TZID=America/Chicago:20250603T173000
DTEND;TZID=America/Chicago:20250603T190000
DTSTAMP:20260419T222557
CREATED:20250531T184516Z
LAST-MODIFIED:20250531T184516Z
UID:5030-1748971800-1748977200@chapscoleman.org
SUMMARY:Timeline Committee Meeting
DESCRIPTION:
URL:https://chapscoleman.org/eventdetail/timeline-committee-meeting/
LOCATION:The Gallery at Heritage Hall\, 400 West College\, Coleman\, TX\, 76834\, United States
END:VEVENT
BEGIN:VEVENT
DTSTART;TZID=America/Chicago:20250603T173000
DTEND;TZID=America/Chicago:20250603T183000
DTSTAMP:20260419T222557
CREATED:20250531T185006Z
LAST-MODIFIED:20250531T185006Z
UID:5034-1748971800-1748975400@chapscoleman.org
SUMMARY:Volunteer Work Hour
DESCRIPTION:
URL:https://chapscoleman.org/eventdetail/volunteer-work-hour/
LOCATION:The Gallery at Heritage Hall\, 400 West College\, Coleman\, TX\, 76834\, United States
END:VEVENT
BEGIN:VEVENT
DTSTART;TZID=America/Chicago:20250603T173000
DTEND;TZID=America/Chicago:20250603T183000
DTSTAMP:20260419T222557
CREATED:20250531T185006Z
LAST-MODIFIED:20250531T185006Z
UID:5034-1748971800-1748975400@chapscoleman.org
SUMMARY:Volunteer Work Hour
DESCRIPTION:
URL:https://chapscoleman.org/eventdetail/volunteer-work-hour/
LOCATION:The Gallery at Heritage Hall\, 400 West College\, Coleman\, TX\, 76834\, United States
END:VEVENT
BEGIN:VEVENT
DTSTART;TZID=America/Chicago:20250603T173000
DTEND;TZID=America/Chicago:20250603T183000
DTSTAMP:20260419T222557
CREATED:20250531T185006Z
LAST-MODIFIED:20250531T185006Z
UID:5034-1748971800-1748975400@chapscoleman.org
SUMMARY:Volunteer Work Hour
DESCRIPTION:
URL:https://chapscoleman.org/eventdetail/volunteer-work-hour/
LOCATION:The Gallery at Heritage Hall\, 400 West College\, Coleman\, TX\, 76834\, United States
END:VEVENT
BEGIN:VEVENT
DTSTART;TZID=America/Chicago:20250603T173000
DTEND;TZID=America/Chicago:20250603T190000
DTSTAMP:20260419T222557
CREATED:20250531T184516Z
LAST-MODIFIED:20250531T184516Z
UID:5030-1748971800-1748977200@chapscoleman.org
SUMMARY:Timeline Committee Meeting
DESCRIPTION:
URL:https://chapscoleman.org/eventdetail/timeline-committee-meeting/
LOCATION:The Gallery at Heritage Hall\, 400 West College\, Coleman\, TX\, 76834\, United States
END:VEVENT
BEGIN:VEVENT
DTSTART;TZID=America/Chicago:20250603T173000
DTEND;TZID=America/Chicago:20250603T183000
DTSTAMP:20260419T222557
CREATED:20250531T185006Z
LAST-MODIFIED:20250531T185006Z
UID:5034-1748971800-1748975400@chapscoleman.org
SUMMARY:Volunteer Work Hour
DESCRIPTION:
URL:https://chapscoleman.org/eventdetail/volunteer-work-hour/
LOCATION:The Gallery at Heritage Hall\, 400 West College\, Coleman\, TX\, 76834\, United States
END:VEVENT
BEGIN:VEVENT
DTSTART;TZID=America/Chicago:20250603T173000
DTEND;TZID=America/Chicago:20250603T183000
DTSTAMP:20260419T222557
CREATED:20250531T185006Z
LAST-MODIFIED:20250531T185006Z
UID:5034-1748971800-1748975400@chapscoleman.org
SUMMARY:Volunteer Work Hour
DESCRIPTION:
URL:https://chapscoleman.org/eventdetail/volunteer-work-hour/
LOCATION:The Gallery at Heritage Hall\, 400 West College\, Coleman\, TX\, 76834\, United States
END:VEVENT
BEGIN:VEVENT
DTSTART;TZID=America/Chicago:20250603T173000
DTEND;TZID=America/Chicago:20250603T183000
DTSTAMP:20260419T222557
CREATED:20250531T185006Z
LAST-MODIFIED:20250531T185006Z
UID:5034-1748971800-1748975400@chapscoleman.org
SUMMARY:Volunteer Work Hour
DESCRIPTION:
URL:https://chapscoleman.org/eventdetail/volunteer-work-hour/
LOCATION:The Gallery at Heritage Hall\, 400 West College\, Coleman\, TX\, 76834\, United States
END:VEVENT
BEGIN:VEVENT
DTSTART;TZID=America/Chicago:20250603T173000
DTEND;TZID=America/Chicago:20250603T183000
DTSTAMP:20260419T222557
CREATED:20250531T185006Z
LAST-MODIFIED:20250531T185006Z
UID:5034-1748971800-1748975400@chapscoleman.org
SUMMARY:Volunteer Work Hour
DESCRIPTION:
URL:https://chapscoleman.org/eventdetail/volunteer-work-hour/
LOCATION:The Gallery at Heritage Hall\, 400 West College\, Coleman\, TX\, 76834\, United States
END:VEVENT
BEGIN:VEVENT
DTSTART;TZID=America/Chicago:20250603T173000
DTEND;TZID=America/Chicago:20250603T190000
DTSTAMP:20260419T222557
CREATED:20250531T184516Z
LAST-MODIFIED:20250531T184516Z
UID:5030-1748971800-1748977200@chapscoleman.org
SUMMARY:Timeline Committee Meeting
DESCRIPTION:
URL:https://chapscoleman.org/eventdetail/timeline-committee-meeting/
LOCATION:The Gallery at Heritage Hall\, 400 West College\, Coleman\, TX\, 76834\, United States
END:VEVENT
BEGIN:VEVENT
DTSTART;TZID=America/Chicago:20250603T173000
DTEND;TZID=America/Chicago:20250603T183000
DTSTAMP:20260419T222557
CREATED:20250531T185006Z
LAST-MODIFIED:20250531T185006Z
UID:5034-1748971800-1748975400@chapscoleman.org
SUMMARY:Volunteer Work Hour
DESCRIPTION:
URL:https://chapscoleman.org/eventdetail/volunteer-work-hour/
LOCATION:The Gallery at Heritage Hall\, 400 West College\, Coleman\, TX\, 76834\, United States
END:VEVENT
BEGIN:VEVENT
DTSTART;TZID=America/Chicago:20250603T173000
DTEND;TZID=America/Chicago:20250603T183000
DTSTAMP:20260419T222557
CREATED:20250531T185006Z
LAST-MODIFIED:20250531T185006Z
UID:5034-1748971800-1748975400@chapscoleman.org
SUMMARY:Volunteer Work Hour
DESCRIPTION:
URL:https://chapscoleman.org/eventdetail/volunteer-work-hour/
LOCATION:The Gallery at Heritage Hall\, 400 West College\, Coleman\, TX\, 76834\, United States
END:VEVENT
BEGIN:VEVENT
DTSTART;TZID=America/Chicago:20250603T173000
DTEND;TZID=America/Chicago:20250603T183000
DTSTAMP:20260419T222557
CREATED:20250531T185006Z
LAST-MODIFIED:20250531T185006Z
UID:5034-1748971800-1748975400@chapscoleman.org
SUMMARY:Volunteer Work Hour
DESCRIPTION:
URL:https://chapscoleman.org/eventdetail/volunteer-work-hour/
LOCATION:The Gallery at Heritage Hall\, 400 West College\, Coleman\, TX\, 76834\, United States
END:VEVENT
BEGIN:VEVENT
DTSTART;TZID=America/Chicago:20250603T173000
DTEND;TZID=America/Chicago:20250603T190000
DTSTAMP:20260419T222557
CREATED:20250531T184516Z
LAST-MODIFIED:20250531T184516Z
UID:5030-1748971800-1748977200@chapscoleman.org
SUMMARY:Timeline Committee Meeting
DESCRIPTION:
URL:https://chapscoleman.org/eventdetail/timeline-committee-meeting/
LOCATION:The Gallery at Heritage Hall\, 400 West College\, Coleman\, TX\, 76834\, United States
END:VEVENT
BEGIN:VEVENT
DTSTART;TZID=America/Chicago:20250603T173000
DTEND;TZID=America/Chicago:20250603T183000
DTSTAMP:20260419T222557
CREATED:20250531T185006Z
LAST-MODIFIED:20250531T185006Z
UID:5034-1748971800-1748975400@chapscoleman.org
SUMMARY:Volunteer Work Hour
DESCRIPTION:
URL:https://chapscoleman.org/eventdetail/volunteer-work-hour/
LOCATION:The Gallery at Heritage Hall\, 400 West College\, Coleman\, TX\, 76834\, United States
END:VEVENT
BEGIN:VEVENT
DTSTART;TZID=America/Chicago:20241111T113000
DTEND;TZID=America/Chicago:20241111T133000
DTSTAMP:20260419T222557
CREATED:20241021T203358Z
LAST-MODIFIED:20241022T222637Z
UID:3949-1731324600-1731331800@chapscoleman.org
SUMMARY:Veterans Day Ceremony & Lunch
DESCRIPTION:VETERANS DAY CEREMONY \nMonday\, Nov. 11th (FREE) \n11:30 am in the Gallery @ Heritage Hall \nLunch Provided After Ceremony \nRSVP: contact@chapscoleman.org \nGuest Speaker\, \nLtCol James M. Thompson
URL:https://chapscoleman.org/eventdetail/veterans-day-ceremony/
LOCATION:The Gallery at Heritage Hall\, 400 West College\, Coleman\, TX\, 76834\, United States
ATTACH;FMTTYPE=image/png:https://chapscoleman.org/wp-content/uploads/2024/10/Veterans-Day-Poster-4-1.png
END:VEVENT
END:VCALENDAR