BEGIN:VCALENDAR
VERSION:2.0
PRODID:-//CHAPS - ECPv6.15.20//NONSGML v1.0//EN
CALSCALE:GREGORIAN
METHOD:PUBLISH
X-ORIGINAL-URL:https://chapscoleman.org
X-WR-CALDESC:Events for CHAPS
REFRESH-INTERVAL;VALUE=DURATION:PT1H
X-Robots-Tag:noindex
X-PUBLISHED-TTL:PT1H
BEGIN:VTIMEZONE
TZID:America/Chicago
BEGIN:DAYLIGHT
TZOFFSETFROM:-0600
TZOFFSETTO:-0500
TZNAME:CDT
DTSTART:20220313T080000
END:DAYLIGHT
BEGIN:STANDARD
TZOFFSETFROM:-0500
TZOFFSETTO:-0600
TZNAME:CST
DTSTART:20221106T070000
END:STANDARD
BEGIN:DAYLIGHT
TZOFFSETFROM:-0600
TZOFFSETTO:-0500
TZNAME:CDT
DTSTART:20230312T080000
END:DAYLIGHT
BEGIN:STANDARD
TZOFFSETFROM:-0500
TZOFFSETTO:-0600
TZNAME:CST
DTSTART:20231105T070000
END:STANDARD
BEGIN:DAYLIGHT
TZOFFSETFROM:-0600
TZOFFSETTO:-0500
TZNAME:CDT
DTSTART:20240310T080000
END:DAYLIGHT
BEGIN:STANDARD
TZOFFSETFROM:-0500
TZOFFSETTO:-0600
TZNAME:CST
DTSTART:20241103T070000
END:STANDARD
END:VTIMEZONE
BEGIN:VEVENT
DTSTART;TZID=America/Chicago:20230805T190000
DTEND;TZID=America/Chicago:20230805T210000
DTSTAMP:20260419T071332
CREATED:20230514T033354Z
LAST-MODIFIED:20230719T230033Z
UID:669-1691262000-1691269200@chapscoleman.org
SUMMARY:Spotlight on the Singer/Songwriter: Zak Webb
DESCRIPTION:We are pleased to announce that Zak Webb will be the first artist in our Spotlight on the Singer/Songwriter series. \nZak is an especially good choice to kick off this series: he grew up  in Brownwood (practically next door to Coleman)\, and his music has been described as “Americana” — a good description of the type of music that we will feature.
URL:https://chapscoleman.org/eventdetail/spotlight-on-the-singer-songwriter-zak-webb/
LOCATION:The Gallery at Heritage Hall\, 400 West College\, Coleman\, TX\, 76834\, United States
CATEGORIES:Musical Performance
ATTACH;FMTTYPE=image/webp:https://chapscoleman.org/wp-content/uploads/2023/06/Zak-2.webp
END:VEVENT
END:VCALENDAR